BEGIN:VCALENDAR
VERSION:2.0
PRODID:-//Spielmannszug Werder - ECPv6.2.5//NONSGML v1.0//EN
CALSCALE:GREGORIAN
METHOD:PUBLISH
X-WR-CALNAME:Spielmannszug Werder
X-ORIGINAL-URL:https://www.spielmannszug-werder.de
X-WR-CALDESC:Veranstaltungen für Spielmannszug Werder
REFRESH-INTERVAL;VALUE=DURATION:PT1H
X-Robots-Tag:noindex
X-PUBLISHED-TTL:PT1H
BEGIN:VTIMEZONE
TZID:Europe/Berlin
BEGIN:DAYLIGHT
TZOFFSETFROM:+0100
TZOFFSETTO:+0200
TZNAME:CEST
DTSTART:20260329T010000
END:DAYLIGHT
BEGIN:STANDARD
TZOFFSETFROM:+0200
TZOFFSETTO:+0100
TZNAME:CET
DTSTART:20261025T010000
END:STANDARD
END:VTIMEZONE
BEGIN:VEVENT
DTSTART;TZID=Europe/Berlin:20260426T090000
DTEND;TZID=Europe/Berlin:20260426T100000
DTSTAMP:20260421T124029
CREATED:20260418T170903Z
LAST-MODIFIED:20260418T170903Z
UID:11545-1777194000-1777197600@www.spielmannszug-werder.de
SUMMARY:Baumblütenlauf
DESCRIPTION:
URL:https://www.spielmannszug-werder.de/event/baumbluetenlauf
LOCATION:Werder\, Moosfennstraße\, Werder\, 14542\, Deutschland
CATEGORIES:Auftritt
END:VEVENT
END:VCALENDAR